BEGIN:VCALENDAR
VERSION:2.0
PRODID:-//RAEDIVIVA - ECPv6.8.3//NONSGML v1.0//EN
CALSCALE:GREGORIAN
METHOD:PUBLISH
X-ORIGINAL-URL:https://raediviva.fr
X-WR-CALDESC:Évènements pour RAEDIVIVA
REFRESH-INTERVAL;VALUE=DURATION:PT1H
X-Robots-Tag:noindex
X-PUBLISHED-TTL:PT1H
BEGIN:VTIMEZONE
TZID:Europe/Zurich
BEGIN:DAYLIGHT
TZOFFSETFROM:+0100
TZOFFSETTO:+0200
TZNAME:CEST
DTSTART:20230326T010000
END:DAYLIGHT
BEGIN:STANDARD
TZOFFSETFROM:+0200
TZOFFSETTO:+0100
TZNAME:CET
DTSTART:20231029T010000
END:STANDARD
END:VTIMEZONE
BEGIN:VEVENT
DTSTART;TZID=Europe/Zurich:20230915T080000
DTEND;TZID=Europe/Zurich:20231003T170000
DTSTAMP:20260422T202945
CREATED:20230828T142405Z
LAST-MODIFIED:20230907T171601Z
UID:9329-1694764800-1696352400@raediviva.fr
SUMMARY:Formation Réemploi
DESCRIPTION:📚 Formation Réemploi 📚 \nLa prochaine session de #formation #réemploi « Concepts et outils de base »\, organisée en partenariat avec EnvirobatBDM\, aura lieu le 15 septembre à Marseille ! \n🎯 Objectifs : fournir aux participants les connaissances utiles pour s’engager dans une démarche de réemploi\, comprendre les enjeux\, connaitre les acteurs et les dynamiques territoriales\, acquérir des outils opérationnels et accéder à des ressources documentaires utiles. \nLa formation se déroule en présentiel sur 1 journée\, et est dispensée par Grégoire Saurel\, Architecte et co-fondateur de Bellastock. \n➕ Pour en savoir plus sur le contenu de cette formation et vous inscrire\, c’est par ici 👉 https://bit.ly/3pMKHkm \n*Tarifs préférentiels pour les adhérents d’EnvirobatBDM ou de l’Association RAEDIVIVA. \n#construction #btp #paca #economiecirculaire \nJeremie Joubert – Nicolas Guignard – Frédéric CORSET – Tiphaine Guélou – Benoit Campion – Safa BEN KHEDHER
URL:https://raediviva.fr/evenements/formation-reemploi/
LOCATION:Marseille\, Marseille\, France
CATEGORIES:Formation
ATTACH;FMTTYPE=image/png:https://raediviva.fr/wp-content/uploads/2023/08/Untitled-750-×-1200-px.png
END:VEVENT
BEGIN:VEVENT
DTSTART;TZID=Europe/Zurich:20231003T080000
DTEND;TZID=Europe/Zurich:20231005T170000
DTSTAMP:20260422T202945
CREATED:20230903T112611Z
LAST-MODIFIED:20230914T101317Z
UID:10035-1696320000-1696525200@raediviva.fr
SUMMARY:Evénement du Grand Avignon le 5 oct 2023 à Avignon "Economie circulaire : quelles avancées pour notre territoire?"
DESCRIPTION:Bonjour à tous\, \nAprès la première édition 2022\, le Grand Avignon se mobilise à nouveau autour de l’Économie circulaire afin de monitorer les avancées sur le territoire et de rassembler les acteurs locaux. \nCette année\, le 5 octobre\, une première partie de 9h00 à 12h30 sera consacrée au BTP. Elle permettra d’aborder entre autres la formation des acteurs\, le maillage territorial\, l’évolution des pratiques et les attentes du territoire. \nUne visite d’installations de valorisation des déchets est prévue à partir de 13h30 (Possibilité de se restaurer sur la zone d’Agroparc\, à quelques centaines de mètres de la salle des fêtes avant le départ en bus). \nUne seconde partie de 16h00 à 20h00 sera dédiée aux déchets professionnels. Vous êtes une entreprise évoluant dans le secteur de l’industrie\, du commerce\, des services… et vous avez des problématiques concernant la gestion de vos déchets professionnels ? Vous souhaitez vous informer et échanger sur les évolutions réglementaires à venir en matière de gestion des déchets ? \nVenez rencontrer des apporteurs de solutions et assister à des tables rondes et à des présentations inspirantes sur différentes thématiques (mise en œuvre du tri des déchets en entreprise\, gestion des biodéchets…). \nUn cocktail de clôture sera proposé afin de poursuivre les échanges entre les participants.
URL:https://raediviva.fr/evenements/evenement-du-grand-avignon-le-5-oct-2023-a-avignon-economie-circulaire-quelles-avancees-pour-notre-territoire/
LOCATION:Agroparc\, la salle des fêtes de montfavet\, France
CATEGORIES:Evènement
ATTACH;FMTTYPE=image/jpeg:https://raediviva.fr/wp-content/uploads/2023/09/20230802135018-save-the-date-colloque-btp-2023.jpeg
END:VEVENT
BEGIN:VEVENT
DTSTART;TZID=Europe/Zurich:20231003T090000
DTEND;TZID=Europe/Zurich:20231003T163000
DTSTAMP:20260422T202945
CREATED:20230929T113414Z
LAST-MODIFIED:20230930T090913Z
UID:11226-1696323600-1696350600@raediviva.fr
SUMMARY:Rencontre du Réseau régional de la Réhabilitation
DESCRIPTION:EnvirobatBDM organise une nouvelle journée de rencontre et de visites autour du thème « Conserver le plus possible » \nInscription obligatoire : https://lecanal.envirobatbdm.eu/event/rencontre-rehabilitation-conserver-le-plus-possible-2023-10-03-2041/register
URL:https://raediviva.fr/evenements/rencontre-du-reseau-regional-de-la-rehabilitation/
LOCATION:Résidence le Phocéen 32 rue de Crimée\, 13003 Marseille\, Marseille
CATEGORIES:Evènement
ATTACH;FMTTYPE=image/png:https://raediviva.fr/wp-content/uploads/2023/09/wpimage-id10656sizeSlugfulllinkDestinationnone-figure-classwp-block-image-size-fullimg-srchttpsv2.raediviva.frwp-contentuploads202309image.jpeg-alt-classwp-image-10656-titleLa-cons-1.png
END:VEVENT
END:VCALENDAR