BEGIN:VCALENDAR
VERSION:2.0
PRODID:-//RAEDIVIVA - ECPv6.8.3//NONSGML v1.0//EN
CALSCALE:GREGORIAN
METHOD:PUBLISH
X-WR-CALNAME:RAEDIVIVA
X-ORIGINAL-URL:https://raediviva.fr
X-WR-CALDESC:Évènements pour RAEDIVIVA
REFRESH-INTERVAL;VALUE=DURATION:PT1H
X-Robots-Tag:noindex
X-PUBLISHED-TTL:PT1H
BEGIN:VTIMEZONE
TZID:Europe/Zurich
BEGIN:DAYLIGHT
TZOFFSETFROM:+0100
TZOFFSETTO:+0200
TZNAME:CEST
DTSTART:20230326T010000
END:DAYLIGHT
BEGIN:STANDARD
TZOFFSETFROM:+0200
TZOFFSETTO:+0100
TZNAME:CET
DTSTART:20231029T010000
END:STANDARD
END:VTIMEZONE
BEGIN:VEVENT
DTSTART;TZID=Europe/Zurich:20231013T093000
DTEND;TZID=Europe/Zurich:20231013T120000
DTSTAMP:20260422T220752
CREATED:20230929T140415Z
LAST-MODIFIED:20231012T150825Z
UID:11241-1697189400-1697198400@raediviva.fr
SUMMARY:Journée du réemploi | Visite de la cave Gazel
DESCRIPTION:Dans le cadre de l’opération de réhabilitation de logements communaux\, la ville de Septème-les-Vallons organise\, avec l’Atelier Aïno et DOMENE SCOP\, une journée dédiée au réemploi de matériaux à la cave de Gazel\, lieu de stockage des éléments déposés avant réemploi dans le chantier ou à l’extérieur auprès des associations\, des centres de formation/écoles et des particuliers dans le cadre de la démarche de réplicabilité de l’opération. \nLe matin sera consacré aux institutionnels et financeurs pour expliquer in situ le fonctionnement et la démarche\, avec au programme une visite de la plateforme temporaire de matériaux et la présentation du projet. \nL’après-midi accueillera les associations\, centres de formation/écoles et particuliers qui viendront retirer des matériaux. Cela sera l’occasion d’une action pédagogique auprès d’eux. \nEn effet\, la commune\, avec la maîtrise d’œuvre et l’assistant à maîtrise d’ouvrage\, est en en train d’organiser le vendredi 13 octobre 2023 une journée consacrée au réemploi à la cave Gazel. \n  \nInscription obligatoire \nS’inscrire
URL:https://raediviva.fr/evenements/journee-du-reemploi-visite-de-la-cave-gazel/
LOCATION:145 avenue du 8 mai 1945 – 13240 Septèmes-les-Vallons
CATEGORIES:Evènement
END:VEVENT
END:VCALENDAR