BEGIN:VCALENDAR
VERSION:2.0
PRODID:-//RAEDIVIVA - ECPv6.8.3//NONSGML v1.0//EN
CALSCALE:GREGORIAN
METHOD:PUBLISH
X-WR-CALNAME:RAEDIVIVA
X-ORIGINAL-URL:https://raediviva.fr
X-WR-CALDESC:Évènements pour RAEDIVIVA
REFRESH-INTERVAL;VALUE=DURATION:PT1H
X-Robots-Tag:noindex
X-PUBLISHED-TTL:PT1H
BEGIN:VTIMEZONE
TZID:Europe/Zurich
BEGIN:DAYLIGHT
TZOFFSETFROM:+0100
TZOFFSETTO:+0200
TZNAME:CEST
DTSTART:20230326T010000
END:DAYLIGHT
BEGIN:STANDARD
TZOFFSETFROM:+0200
TZOFFSETTO:+0100
TZNAME:CET
DTSTART:20231029T010000
END:STANDARD
TZID:Europe/Helsinki
BEGIN:DAYLIGHT
TZOFFSETFROM:+0200
TZOFFSETTO:+0300
TZNAME:EEST
DTSTART:20230326T010000
END:DAYLIGHT
BEGIN:STANDARD
TZOFFSETFROM:+0300
TZOFFSETTO:+0200
TZNAME:EET
DTSTART:20231029T010000
END:STANDARD
END:VTIMEZONE
BEGIN:VEVENT
DTSTART;TZID=Europe/Zurich:20231109T090000
DTEND;TZID=Europe/Zurich:20231110T173000
DTSTAMP:20260422T135050
CREATED:20230929T143510Z
LAST-MODIFIED:20231016T162920Z
UID:11251-1699520400-1699637400@raediviva.fr
SUMMARY:Formation Réemploi # 2 : Intégrer le réemploi dans son projet
DESCRIPTION:Si vous souhaitez vous former pour savoir comment intégrer le réemploi dans vos projets\, cette formation est faite pour vous ! \nOrganisée en partenariat avec EnvirobatBDM\, cette formation aura lieu sur deux jours les 9 & 10 novembre prochain et sera dispensée par l’équipe de l’Atelier Aïno. \nAu programme\, montée en compétences et savoir-faire sur les points suivants : \n✅ Connaître les différentes stratégies organisationnelles et architecturales d’un projet permettant d’inclure du réemploi ;\n✅ Pouvoir « sourcer » différents types de matériaux et équipements de réemploi ;\n✅ Anticiper les problèmes éventuels et gérer les incertitudes ;\n✅ Pouvoir très concrètement élaborer une stratégie de prescription\, écriture des lots et/ou de mise en oeuvre des matériaux et produits de réemploi ; \n 📅 le 9 & 10 novembre 2023\n 🕐 de 9h à 17h30 (présentiel)\n 📍 à Marseille (locaux d’EnvirobatBDM – 32 rue de Crimée – 13003 Marseille) \nPour les adhérents EnvirobatBDM et de Raediviva : 900€ nets de taxe\nPour les non-adhérents : 1100€ nets de taxe \nS’inscrire
URL:https://raediviva.fr/evenements/formation-reemploi-2-integrer-le-reemploi-dans-son-projet/
LOCATION:32 rue de Crimée\, 13003 Marseille
CATEGORIES:Formation
ATTACH;FMTTYPE=image/png:https://raediviva.fr/wp-content/uploads/2023/09/Vif-Jaune-et-Blanc-Moderne-Dynamique-Cadres-LinkedIn-Publication-2.png
END:VEVENT
BEGIN:VEVENT
DTSTART;TZID=Europe/Helsinki:20231109T183000
DTEND;TZID=Europe/Helsinki:20231109T200000
DTSTAMP:20260422T135050
CREATED:20231026T153729Z
LAST-MODIFIED:20231026T154028Z
UID:12057-1699554600-1699560000@raediviva.fr
SUMMARY:Table ronde [[re]gardez les [re]ssources : Pour quels usages ?]
DESCRIPTION:Dans le cadre de la saison culturelle « Ceci n’est pas un déchet [re]garder les [ressources] »\, le CAUE Var organise le jeudi 09 novembre 2023 à 18h30 une table ronde intitulée [re]gardez les [re]ssources Quels sont les usages ? \nUne soirée de témoignages et de réflexions autour de différents types de ressources et actions de prévention des déchets\, comment les mettre en œuvre\, pour quels usages\, où\, avec et pour qui ? \nIntervenants :\nGrégoire Saurel\nBellastock Marseille \nPénélope Haas\nPaysagiste conceptrice \nFayçal Benabi\nR+éveil \nInscription obligatoire \nS’inscrire
URL:https://raediviva.fr/evenements/table-ronde-regardez-les-ressources-pour-quels-usages/
LOCATION:CAUE Var\, 26 Place Vincent Raspail\, Toulon\, 83000\, France
CATEGORIES:Table ronde
ATTACH;FMTTYPE=image/png:https://raediviva.fr/wp-content/uploads/2023/10/Design-sans-titre-11.png
END:VEVENT
END:VCALENDAR