BEGIN:VCALENDAR
VERSION:2.0
PRODID:-//RAEDIVIVA - ECPv6.8.3//NONSGML v1.0//EN
CALSCALE:GREGORIAN
METHOD:PUBLISH
X-ORIGINAL-URL:https://raediviva.fr
X-WR-CALDESC:Évènements pour RAEDIVIVA
REFRESH-INTERVAL;VALUE=DURATION:PT1H
X-Robots-Tag:noindex
X-PUBLISHED-TTL:PT1H
BEGIN:VTIMEZONE
TZID:Europe/Zurich
BEGIN:DAYLIGHT
TZOFFSETFROM:+0100
TZOFFSETTO:+0200
TZNAME:CEST
DTSTART:20230326T010000
END:DAYLIGHT
BEGIN:STANDARD
TZOFFSETFROM:+0200
TZOFFSETTO:+0100
TZNAME:CET
DTSTART:20231029T010000
END:STANDARD
END:VTIMEZONE
BEGIN:VEVENT
DTSTART;TZID=Europe/Zurich:20231117T183000
DTEND;TZID=Europe/Zurich:20231117T200000
DTSTAMP:20260422T202851
CREATED:20230929T144745Z
LAST-MODIFIED:20231027T103227Z
UID:11258-1700245800-1700251200@raediviva.fr
SUMMARY:Conférence Rotor
DESCRIPTION:L’équipe du CAUE Var organise le vendredi 17 novembre 2023 à 18h30\, une conférence avec le collectif Rotor. Rotor est un collectif de recherche appliqué et une coopérative de valorisation de matériaux.   \nVictor Meesters présentera l’activité de Rotor fondé en 2005. C’est un collectif pionnier et inspirant qui œuvre pour la valorisation des matériaux de « seconde-mains »\, issus de la déconstruction.  \nInscription Obligatoire  \nS’inscrire
URL:https://raediviva.fr/evenements/conference-rotor-tbc/
LOCATION:Privé : Campus Porte d’Italie Bâtiment Pi Amphi FA110\, 70 Avenue Roger Devoucoux\, Toulon\, 83100\, France
CATEGORIES:Conférence
ATTACH;FMTTYPE=image/png:https://raediviva.fr/wp-content/uploads/2023/09/Modele-image-agenda-site-internet-3.png
END:VEVENT
END:VCALENDAR