BEGIN:VCALENDAR
VERSION:2.0
PRODID:-//RAEDIVIVA - ECPv6.8.3//NONSGML v1.0//EN
CALSCALE:GREGORIAN
METHOD:PUBLISH
X-ORIGINAL-URL:https://raediviva.fr
X-WR-CALDESC:Évènements pour RAEDIVIVA
REFRESH-INTERVAL;VALUE=DURATION:PT1H
X-Robots-Tag:noindex
X-PUBLISHED-TTL:PT1H
BEGIN:VTIMEZONE
TZID:Europe/Helsinki
BEGIN:DAYLIGHT
TZOFFSETFROM:+0200
TZOFFSETTO:+0300
TZNAME:EEST
DTSTART:20230326T010000
END:DAYLIGHT
BEGIN:STANDARD
TZOFFSETFROM:+0300
TZOFFSETTO:+0200
TZNAME:EET
DTSTART:20231029T010000
END:STANDARD
END:VTIMEZONE
BEGIN:VEVENT
DTSTART;TZID=Europe/Helsinki:20231123T093000
DTEND;TZID=Europe/Helsinki:20231123T174000
DTSTAMP:20260422T184656
CREATED:20231016T163214Z
LAST-MODIFIED:20231114T125230Z
UID:11731-1700731800-1700761200@raediviva.fr
SUMMARY:Forum #2 - Le réemploi dans le BTP en Région Sud
DESCRIPTION:L’association Raediviva a le plaisir de vous inviter à la 2e édition du forum du réemploi des matériaux de construction en Région Sud qui aura lieu :   \n📅 Jeudi 23 novembre 2023\n📍 Bouc-Bel-Air (13) – Espace Jean d’Ormesson\n🕟 9h30 – 17h40 (possibilité de déjeuner sur place) \nLes acteurs du réemploi dans leur diversité se mobiliseront pour mettre en débat leurs expériences\, leurs projets\, mais aussi leurs doutes\, autour de trois questionnements majeurs du moment : \n1. Comment développer le réemploi des matériaux dans le logement social ?\n2. L’assurance est-elle vraiment un frein au réemploi ?\n3. Quels espaces d’échanges pour les matériaux de réemploi ? \nTélécharger le programme \n📌 Programme :  \nMATIN\nComité restreint\, membres des groupes de travail uniquement \n9h30 : ACCUEIL CAFÉ DES MEMBRES DES GROUPES DE TRAVAIL \n10h-12h30 : ÉLABORATION DES FEUILLES DE ROUTE DES GROUPES DE TRAVAIL POUR 2024\n1. GT “Bailleurs sociaux” : Comment développer le réemploi des matériaux dans le logement social ?\n2. GT “Assurance” : L’assurance est-elle vraiment un frein au réemploi ?\n3. GT “Plateforme / Stockage” : Quels espaces d’échanges pour les matériaux de réemploi ? \nMIDI\nOuvert à tous sur inscription \n12h30-13h45 : COCKTAIL DÉJEUNATOIRE \nAPRÈS-MIDI\nOuvert à tous sur inscription \n13h34-14h45 : LE DÉVELOPPEMENT DU RÉEMPLOI \n13h45 : Introduction du Forum – Tiphaine Guélou\, Directrice\, Raediviva. \n14h : Mot d’accueil et présentation de l’espace Jean d’Ormesson – Sophie Rampal-Car\, adjointe au Directeur des Services Techniques\, ville de Bouc-Bel-Air et Bresson Schindlbeck Architectes Associées\, maîtrise d’œuvre du projet. \n14h15 : Le développement du réemploi – Pierre Belli-Riz\, Architecte Enseignant-Chercheur\, Grand témoin du Forum\, auteur de “Réemploi\, architecture et construction”\, Le Moniteur. \n14h30 : Concept opératoire « réusage » – Safa Ben Khedher\, Architecte DE-HMONP\, Doctorante en Architecture et Ville thèse CIFRE (Laboratoire CRH-LAVUE\, Bresson Schindlbeck Architectes). \n14h45-15h45 : LES PRATIQUES DU RÉEMPLOI AUJOURD’HUI – RETOURS D’EXPERIENCES  \n14h45 : Présentation du projet de réhabilitation exemplaire de 19 logements communaux intégrant réemploi et réutilisation à Septèmes-les-Vallons  – Sophie Celton\, Première Adjointe\, ville de Septèmes-les-Vallons. \n15h05 : Présentation de la plateforme pour le réemploi de matériaux de construction pour des chantiers sobres sur Toulouse métropole et l’Occitanie – Christophe Audoly\, Chef de projets réemploi\, Raedificare et Jérémie Bernard\, Coordinateur du projet LIFE waste2build\, Toulouse métropole. \n15h25 : Présentation de l’un des projets pilotes du projet européen Interreg FCRBE (Faciliter la Circulation des Matériaux de Construction de Réemploi) – Grégoire Saurel\, Responsable Bellastock Marseille\, Directeur technique réemploi et économie circulaire\, Bellastock. \n15h45-16h : PAUSE CAFÉ  \n16h-16h45 : PRÉSENTATION DES FEUILLES DE ROUTE 2024 DES GROUPES DE TRAVAIL \n16h : Groupe de travail “Bailleurs sociaux” – Benjamin Deroch\, Directeur de projets\, Ekinov et Trésorier\, Raediviva. \n16h15 : Groupe de travail “Assurance” – Hervé Catrevaux\, Expert Conseil\, SOCABAT. \n16h30 : Groupe de travail “Plateformes/stockage” – Robin Cres\, Coordinateur de l’agence Méditerranée\, Neo-Eco. \n16h45-17h40 – ACTIONS EN PERSPECTIVES EN FAVEUR DU REEMPLOI \n16h45 : Synthèse des échanges et mise en perspective –  Pierre Belli-Riz\, Architecte Enseignant-Chercheur\, Grand témoin du Forum\, auteur de “Réemploi\, architecture et construction”\, Le Moniteur. \n17h : Les actions de la Région Sud en matière de réemploi – Anne Claudius-Petit\, Présidente de la Commission Transition énergétique\, stratégie des déchets\, Qualité de l’air\, Région Sud. \n17h15 : Perspectives d’actions régionales et remerciements – Benoît Campion\, Président\, Raediviva. \n17h30 : Clôture du Forum – Thomas Bergere\, Adjoint au Maire\, Délégué aux grands travaux\, ville de Bouc-Bel-Air. \n17h40 : FIN DU FORUM – COCKTAIL \nTélécharger le programme \nINSCRIPTION OBLIGATOIRE ICI :
URL:https://raediviva.fr/evenements/forum-2-le-reemploi-dans-le-btp-en-paca/
LOCATION:Espace Jean d’Ormesson\, Rue Auguste Renoir\, Bouc-Bel-Air\, 13320\, France
CATEGORIES:Forum
ATTACH;FMTTYPE=image/png:https://raediviva.fr/wp-content/uploads/2023/10/2e-edition-forum-reemploi-carree-2.png
END:VEVENT
END:VCALENDAR