BEGIN:VCALENDAR
VERSION:2.0
PRODID:-//RAEDIVIVA - ECPv6.8.3//NONSGML v1.0//EN
CALSCALE:GREGORIAN
METHOD:PUBLISH
X-ORIGINAL-URL:https://raediviva.fr
X-WR-CALDESC:Évènements pour RAEDIVIVA
REFRESH-INTERVAL;VALUE=DURATION:PT1H
X-Robots-Tag:noindex
X-PUBLISHED-TTL:PT1H
BEGIN:VTIMEZONE
TZID:Europe/Helsinki
BEGIN:DAYLIGHT
TZOFFSETFROM:+0200
TZOFFSETTO:+0300
TZNAME:EEST
DTSTART:20240331T010000
END:DAYLIGHT
BEGIN:STANDARD
TZOFFSETFROM:+0300
TZOFFSETTO:+0200
TZNAME:EET
DTSTART:20241027T010000
END:STANDARD
END:VTIMEZONE
BEGIN:VEVENT
DTSTART;TZID=Europe/Helsinki:20240125T090000
DTEND;TZID=Europe/Helsinki:20240125T160000
DTSTAMP:20260422T090906
CREATED:20240109T183925Z
LAST-MODIFIED:20240109T183925Z
UID:12202-1706173200-1706198400@raediviva.fr
SUMMARY:GT#11 BTP | Déchets & Economie Circulaire - Comprendre le métabolisme urbain
DESCRIPTION:GT#11 BTP | Déchets & Economie Circulaire – Jeudi 25 Janvier 2024 \n« Comprendre le métabolisme urbain/territorial\, la base d’une stratégie d’économie circulaire et de gestion des déchets du BTP métropolitaine ! » \nOrganisé par la Région Sud en collaboration avec la Métropole Nice Côte d’Azur. \nDate : Jeudi 25 janvier 2024 \nConférence : 9h accueil café /9h30 – 12h00\nDéjeuner : 12h00 – 13h30\nVisite : 14h00 – 16h00   \nProgramme \nLieu : Salle Ferrière\, 582 Esplanade du Levant\, 06700. \nProposé en format mixte : présentiel OU visioconférence \nNombre de place limitées en présentiel\, inscription obligatoire. \nINSCRIPTION
URL:https://raediviva.fr/evenements/gt11-btp-dechets-economie-circulaire-comprendre-le-metabolisme-urbain/
LOCATION:Saint-Laurent-du-Var\, 582 Esplanade du Levant\, Saint-Laurent-du-Var\, 06700\, France
CATEGORIES:Rencontre
ATTACH;FMTTYPE=image/jpeg:https://raediviva.fr/wp-content/uploads/2024/01/GT11-Region-Sud.jpeg
END:VEVENT
END:VCALENDAR