BEGIN:VCALENDAR
VERSION:2.0
PRODID:-//RAEDIVIVA - ECPv6.8.3//NONSGML v1.0//EN
CALSCALE:GREGORIAN
METHOD:PUBLISH
X-WR-CALNAME:RAEDIVIVA
X-ORIGINAL-URL:https://raediviva.fr
X-WR-CALDESC:Évènements pour RAEDIVIVA
REFRESH-INTERVAL;VALUE=DURATION:PT1H
X-Robots-Tag:noindex
X-PUBLISHED-TTL:PT1H
BEGIN:VTIMEZONE
TZID:Europe/Helsinki
BEGIN:DAYLIGHT
TZOFFSETFROM:+0200
TZOFFSETTO:+0300
TZNAME:EEST
DTSTART:20240331T010000
END:DAYLIGHT
BEGIN:STANDARD
TZOFFSETFROM:+0300
TZOFFSETTO:+0200
TZNAME:EET
DTSTART:20241027T010000
END:STANDARD
END:VTIMEZONE
BEGIN:VEVENT
DTSTART;TZID=Europe/Helsinki:20240329T130000
DTEND;TZID=Europe/Helsinki:20240329T150000
DTSTAMP:20260422T032524
CREATED:20240305T135008Z
LAST-MODIFIED:20240305T135008Z
UID:12338-1711717200-1711724400@raediviva.fr
SUMMARY:Déjeuner du Réemploi - 29 mars 2024 - L'Argentière-la-Bessée
DESCRIPTION:Pour ce nouveau rendez-vous informel du réemploi\, direction le nord de la Région Sud !  \n📅 Le vendredi 29 mars 2024\n🕗 De 13h à 15h\n📍 1 rue de la Série E – Zone d’activité des Sablonnières\, 05120 L’Argentière-la-Bessée  \nCet évènement\, organisé en partenariat avec le Réseau Régional des Ressourceries et Recycleries de PACA se déroulera le vendredi 29 mars\, de 13h à 15h. \nVenez partager un moment convivial et informel pour parler réemploi dans le BTP autour d’un déjeuner et d’une visite de la matériauthèque la Plateforme de réemploi des Matériaux\, située à l’Argentière-la-Bessée.  \nL’opportunité de développer votre réseau à travers des rencontres et des échanges\, tout en apprenant des bonnes pratiques et retours d’expériences des différents participants. \nNous vous attendons nombreuses et nombreux ! \n(Inscription obligatoire et gratuite)👇
URL:https://raediviva.fr/evenements/dejeuner-du-reemploi-29-mars-2024-largentiere-la-bessee/
LOCATION:La Plateforme de Réemploi des Matériaux\, 11 Rue de la Série E\, L'Argentière-la-Bessée\, 05120\, France
CATEGORIES:Rencontre
ATTACH;FMTTYPE=image/png:https://raediviva.fr/wp-content/uploads/2024/03/Copie-de-visuel-evenement-Carre-2.png
ORGANIZER;CN="Raediviva et l'Association r%C3%A9gionales des Ressourceries de Provence-Alpes-C%C3%B4te d'Azur":MAILTO:contact@raediviva.fr
END:VEVENT
END:VCALENDAR