BEGIN:VCALENDAR
VERSION:2.0
PRODID:-//RAEDIVIVA - ECPv6.8.3//NONSGML v1.0//EN
CALSCALE:GREGORIAN
METHOD:PUBLISH
X-WR-CALNAME:RAEDIVIVA
X-ORIGINAL-URL:https://raediviva.fr
X-WR-CALDESC:Évènements pour RAEDIVIVA
REFRESH-INTERVAL;VALUE=DURATION:PT1H
X-Robots-Tag:noindex
X-PUBLISHED-TTL:PT1H
BEGIN:VTIMEZONE
TZID:Europe/Helsinki
BEGIN:DAYLIGHT
TZOFFSETFROM:+0200
TZOFFSETTO:+0300
TZNAME:EEST
DTSTART:20240331T010000
END:DAYLIGHT
BEGIN:STANDARD
TZOFFSETFROM:+0300
TZOFFSETTO:+0200
TZNAME:EET
DTSTART:20241027T010000
END:STANDARD
END:VTIMEZONE
BEGIN:VEVENT
DTSTART;TZID=Europe/Helsinki:20240711T170000
DTEND;TZID=Europe/Helsinki:20240711T200000
DTSTAMP:20260421T103705
CREATED:20240618T111028Z
LAST-MODIFIED:20240619T085619Z
UID:12580-1720717200-1720728000@raediviva.fr
SUMMARY:Afterwork du réemploi + Visites - Jeudi 11 juillet 2024 - Marseille
DESCRIPTION:Ne manquez pas ce dernier RDV informel du réemploi dans le BTP avant la trêve estivale 😎! Un moment de convivialité\, d’échanges\, de rencontres et de partages autour d’une visite croisée de 2 sites Porte d’Aix à Marseille. L’occasion idéale de découvrir deux opérations différentes intégrant du réemploi et pourquoi pas de vous en inspirer ! \n📅 Le jeudi 11 juillet 2024\n🕗 De 17h à 20h\n📍 ADEME – 1 place Jules Guesde – 13003 Marseille\n(Bâtiment à gauche de l’entrée de l’IMVT\, rendez-vous au pied des grands escaliers entre l’immeuble de l’IMVT et celui de l’ADRIANA). \n📌 Programme : \n🚧 Visite croisée de deux sites avec présentation du réemploi mis en oeuvre sur ces opérations : les nouveaux locaux de l’ADEME (Raedificare) & le Coco Velten (Cycle up). \n🍹Temps d’échanges et de partages autour d’un verre (afterwork oblige) ! \nNous avons hâte de vous y retrouver ! (inscription gratuite et obligatoire) 👇
URL:https://raediviva.fr/evenements/afterwork-du-reemploi-visites-jeudi-11-juillet-2024-marseille/
LOCATION:ADEME\, 1 place Jules Guesde\, Marseille\, 13003
CATEGORIES:Afterwork du réemploi,Visite
ATTACH;FMTTYPE=image/png:https://raediviva.fr/wp-content/uploads/2024/06/Afterwork-11-juillet-2024-2.png
END:VEVENT
END:VCALENDAR