BEGIN:VCALENDAR
VERSION:2.0
PRODID:-//RAEDIVIVA - ECPv6.8.3//NONSGML v1.0//EN
CALSCALE:GREGORIAN
METHOD:PUBLISH
X-ORIGINAL-URL:https://raediviva.fr
X-WR-CALDESC:Évènements pour RAEDIVIVA
REFRESH-INTERVAL;VALUE=DURATION:PT1H
X-Robots-Tag:noindex
X-PUBLISHED-TTL:PT1H
BEGIN:VTIMEZONE
TZID:Europe/Zurich
BEGIN:DAYLIGHT
TZOFFSETFROM:+0100
TZOFFSETTO:+0200
TZNAME:CEST
DTSTART:20200329T010000
END:DAYLIGHT
BEGIN:STANDARD
TZOFFSETFROM:+0200
TZOFFSETTO:+0100
TZNAME:CET
DTSTART:20201025T010000
END:STANDARD
END:VTIMEZONE
BEGIN:VEVENT
DTSTART;TZID=Europe/Zurich:20200117T080000
DTEND;TZID=Europe/Zurich:20200117T170000
DTSTAMP:20260425T164805
CREATED:20230903T104732Z
LAST-MODIFIED:20230903T104732Z
UID:10007-1579248000-1579280400@raediviva.fr
SUMMARY:Réemploi des matériaux : comment ça marche ? table ronde\, intervention de Michel Escande\, Valérie Decot\, Gérard Ferro et Morgan Moinet\, CROA PACA\,
DESCRIPTION:Pour célébrer le 7e anniversaire d’Architectures en ligne\, le CROA PACA a proposé une table ronde sur le réemploi des\nmatériaux issus du bâtiment\, à l’occasion de sa soirée des vœux du 17 janvier 2020.\nL’Ordre des Architectes PACA a invité des intervenants qualifiés pour vous faire découvrir cette filière\, susciter l’envie\nd’adhérer à cette démarche et vous donner quelques clés pour vous lancer ! Que vous soyez architecte\, entrepreneur\,\nélu… le réemploi peut vous intéresser pour ses avantages en matière d’environnement\, d’économie\, d’innovation. \nLes interventions\n. Michel Escande\, architecte du patrimoine : Le réemploi\, évidence du renouvellement\n. Valérie Decot\, architecte : R-aedificare\, le réemploi comme filière à part entière du secteur du BTP en région SUD\n. Gérard Ferro\, président d’Estérel Terrassement Environnement : Le reconditionnement des déchets du bâtiment\n.Morgan Moinet\, Directeur et associé du bureau d’études REMIX Réemploi et Matériaux : Présentation d’un exemple de\nprojet de réemploi\nLe débat était animé par Frédéric Poulat\, conseiller ordinal (CROA PACA).
URL:https://raediviva.fr/evenements/reemploi-des-materiaux-comment-ca-marche-table-ronde-intervention-de-michel-escande-valerie-decot-gerard-ferro-et-morgan-moinet-croa-paca/
CATEGORIES:Webinaire
END:VEVENT
END:VCALENDAR