BEGIN:VCALENDAR
VERSION:2.0
PRODID:-//RAEDIVIVA - ECPv6.8.3//NONSGML v1.0//EN
CALSCALE:GREGORIAN
METHOD:PUBLISH
X-ORIGINAL-URL:https://raediviva.fr
X-WR-CALDESC:Évènements pour RAEDIVIVA
REFRESH-INTERVAL;VALUE=DURATION:PT1H
X-Robots-Tag:noindex
X-PUBLISHED-TTL:PT1H
BEGIN:VTIMEZONE
TZID:Europe/Zurich
BEGIN:DAYLIGHT
TZOFFSETFROM:+0100
TZOFFSETTO:+0200
TZNAME:CEST
DTSTART:20230326T010000
END:DAYLIGHT
BEGIN:STANDARD
TZOFFSETFROM:+0200
TZOFFSETTO:+0100
TZNAME:CET
DTSTART:20231029T010000
END:STANDARD
END:VTIMEZONE
BEGIN:VEVENT
DTSTART;TZID=Europe/Zurich:20230101T080000
DTEND;TZID=Europe/Zurich:20230101T170000
DTSTAMP:20260424T120445
CREATED:20230903T111238Z
LAST-MODIFIED:20230903T112318Z
UID:10025-1672560000-1672592400@raediviva.fr
SUMMARY:Replay-formation:  la série 2 sur le Réemploi
DESCRIPTION:Pour le 2ème épisode des interviews #Réemploi\, RAEDIVIVA a interrogé les professionnels du #BTP et les acteurs de la #construction sur la question « des #matériaux à réemployer en priorité ! »\nQuelques pistes de réflexion pour s’engager dans la voie du #réemploi… \nN’hésitez pas à nous dire en commentaire quels sont\, pour vous\, les matériaux qui vous semble le plus intéressant à réemployer et pourquoi ce choix ! \nÉpisode 1/3 : « Pourquoi faire du réemploi » https://lnkd.in/eRQaZfkn\nÉpisode 2/3 : « Quels matériaux à réemployer en priorité »\nÉpisode 3/3 : RDV dans quelques jours \nMerci aux intervenants pour la qualités de leurs propos ainsi qu’à toutes les personnes qui ont contribué à cette série de vidéos. \nSophie MIDY | ADEME\nValérie DECOT | Raedificare\nIsabella Tallo | 3a Architectes Associés\nBenjamin Deroch | Groupe ekinov\nCamille Bertelli | Atelier Da Caze\nAntoine GROSJEAN | DOMENE scop\nFayçal Benabi | R+éveil\nMorgane Perrin | ROUGERIE+TANGRAM\nBarbara Cholley | Région Sud – Provence-Alpes-Côte d’Azur\nGrégoire Saurel | Bellastock\nJeremie Joubert | EnvirobatBDM\nEmmanuelle Pons | CAUE Var\nAmine M. | Amino Studio\nRomain Tahon\nBenoit Campion\nLaure PIZAY\nCoco Velten \n  \nLien de l’interview : : https://www.linkedin.com/posts/association-raediviva_raezemploi-btp-\nconstruction-activity-6993163045300494336-
URL:https://raediviva.fr/evenements/replay-formation-la-serie-2-sur-le-reemploi/
CATEGORIES:Formation
END:VEVENT
BEGIN:VEVENT
DTSTART;TZID=Europe/Zurich:20230119T080000
DTEND;TZID=Europe/Zurich:20230119T170000
DTSTAMP:20260424T120445
CREATED:20230903T105545Z
LAST-MODIFIED:20230903T105545Z
UID:10015-1674115200-1674147600@raediviva.fr
SUMMARY:Webinaire - 2023 : quoi de neuf pour le réemploi des matériaux ?
DESCRIPTION:Materiauxréemploi.com et SKOV ont organisé l’annuel webinaire d’actualité pour faire le point sur ce qui change ou va\nchanger cette nouvelle année. Au programme de cette édition 2023 : ✔️Le point sur l’actualité juridique\, avec notamment\nl’entrée en vigueur de la REP PMCB et son impact sur les acteurs du #réemploi et l’entrée en vigueur du diagnostic PEMD\n(et cette année\, au moins 15 minutes consacrées aux Questions-Réponses) – Elisabeth GELOT\, SKOV ; ✔️Le point sur les \nactivités et les chantiers du jeune SPREC (Syndicat Professionnel du Réemploi dans la Construction) – Joanne BOACHON\,\nSPREC. En voici le replay !
URL:https://raediviva.fr/evenements/webinaire-2023-quoi-de-neuf-pour-le-reemploi-des-materiaux/
CATEGORIES:Webinaire
END:VEVENT
END:VCALENDAR