BEGIN:VCALENDAR
VERSION:2.0
PRODID:-//RAEDIVIVA - ECPv6.8.3//NONSGML v1.0//EN
CALSCALE:GREGORIAN
METHOD:PUBLISH
X-WR-CALNAME:RAEDIVIVA
X-ORIGINAL-URL:https://raediviva.fr
X-WR-CALDESC:Évènements pour RAEDIVIVA
REFRESH-INTERVAL;VALUE=DURATION:PT1H
X-Robots-Tag:noindex
X-PUBLISHED-TTL:PT1H
BEGIN:VTIMEZONE
TZID:Europe/Zurich
BEGIN:DAYLIGHT
TZOFFSETFROM:+0100
TZOFFSETTO:+0200
TZNAME:CEST
DTSTART:20230326T010000
END:DAYLIGHT
BEGIN:STANDARD
TZOFFSETFROM:+0200
TZOFFSETTO:+0100
TZNAME:CET
DTSTART:20231029T010000
END:STANDARD
END:VTIMEZONE
BEGIN:VEVENT
DTSTART;TZID=Europe/Zurich:20230601T080000
DTEND;TZID=Europe/Zurich:20230601T170000
DTSTAMP:20260423T130756
CREATED:20230612T105027Z
LAST-MODIFIED:20230903T105934Z
UID:10010-1685606400-1685638800@raediviva.fr
SUMMARY:[REPLAY] RÉEMPLOI - Une solution pérenne pour la construction ? | Ekopolis
DESCRIPTION:L’objectif de cet évènement était double :\n– Comprendre les freins rencontrés pour faire du réemploi aujourd’hui\n– Mettre en lumière des solutions pour faciliter son usage.\nCe colloque fût l’occasion de partager un moment de convivialité avec différents professionnels\, d’écouter leur vision et\nexpériences du réemploi en architecture et de visiter le magasin de réemploi du chantier de réhabilitation et extension de\nl’Ecole Supérieure des Arts du Cirque de l’Académie Fratellini à La Plaine Saint-Denis. »
URL:https://raediviva.fr/evenements/replay-reemploi-une-solution-perenne-pour-la-construction-ekopolis/
CATEGORIES:Webinaire
ATTACH;FMTTYPE=image/jpeg:https://raediviva.fr/wp-content/uploads/2023/09/Colloque-Reemploi.jpeg
END:VEVENT
BEGIN:VEVENT
DTSTART;TZID=Europe/Zurich:20230607T080000
DTEND;TZID=Europe/Zurich:20230607T170000
DTSTAMP:20260423T130756
CREATED:20230903T110739Z
LAST-MODIFIED:20230903T112357Z
UID:10023-1686124800-1686157200@raediviva.fr
SUMMARY:Replay-formation:  la série 1 sur le Réemploi
DESCRIPTION:Le 7 juin 2022 ont eu les 1ères Rencontres autour du #Réemploi de #Matériaux du #Bâtiment et des travaux publics en PACA organisées par RAEDIVIVA\nDans le cadre de ce #Forum où 80 acteurs de la construction\, professionnels du #BTP et spécialistes du réemploi ont croisé leurs regards sur cette filière à structurer\, animer et mettre en mouvement. Une réelle dynamique s’est lancée\, il faut maintenant poursuivre le mouvement.\nEn marge de ce séminaire\, RAEDIVIVA & Amino Studio ont interpelé les acteurs autour de 3 questions clefs pour 3 interviews afin de repenser les bases de ce mouvement et affirmer les fondamentaux qui le sous-tend. \nInterview 1/3 « Pourquoi faire du #Réemploi ? » \nToute l’équipe RAEDIVIVA remercie chaleureusement les personnes qui ont contribué à ces vidéos\nSophie MIDY | ADEME\nValérie DECOT | Raedificare\nIsabella Tallo | 3a Architectes Associés\nBenjamin Deroch | Groupe ekinov\nCamille Bertelli | Atelier Da Caze\nAntoine GROSJEAN | DOMENE scop\nFayçal Benabi | R+éveil\nMorgane Perrin | ROUGERIE+TANGRAM\nBarbara Cholley | Région Sud – Provence-Alpes-Côte d’Azur\nGrégoire Saurel | Bellastock\nJeremie Joubert | EnvirobatBDM\nEmmanuelle Pons | CAUE Var\nRomain Tahon\nBenoit Campion\nLaure PIZAY\nAmine M.\nCoco Velten
URL:https://raediviva.fr/evenements/replay-formation-la-serie-1-sur-le-reemploi/
CATEGORIES:Formation
END:VEVENT
BEGIN:VEVENT
DTSTART;TZID=Europe/Zurich:20230607T080000
DTEND;TZID=Europe/Zurich:20230607T170000
DTSTAMP:20260423T130756
CREATED:20230903T111659Z
LAST-MODIFIED:20230903T111659Z
UID:10029-1686124800-1686157200@raediviva.fr
SUMMARY:Replay-formation : la série 3 sur le Réemploi
DESCRIPTION:Cher réseau\,\nPour clore cette série de 3 interviews sur le #Réemploi\, voici très concrètement des propositions d’acteurs pour favoriser et booster la filière du réemploi :\nTVA à 5\,5%\, pédagogie\, éducation\, réglementation\, formation\, mise en place de plateforme de #stockage… autant de pistes concrètes pour massifier le réemploi\, sortir de l’expérimentation pour en faire la norme de demain en terme de construction. \n– « Pourquoi faire du réemploi ? »\n– « Quels matériaux à réemployer en priorité ? »\n– « Comment booster le réemploi ? » \nCette série d’interviews a été réalisé le 7 juin 2022 lors des 1ères #Rencontres autour du #Réemploi de #Matériaux du #Bâtiment et des travaux publics en #PACA organisées par RAEDIVIVA. \nCe #Forum a permis aux acteurs de la construction\, aux professionnels du #BTP et aux spécialistes du réemploi de se rencontrer autour de la filière du réemploi\, de commencer à établir des ponts entre les projets\, de trouver des synergies entre les acteurs.\nRAEDIVIVA multiplie les espace d’échanges\, les formats de rencontres afin que la filière du #réemploi se structure et soit capable de répondre aux enjeux qui arrivent dans le monde de la #construction. \nRAEDIVIVA remercie Amino Studio & R+éveil sans qui ces interviews n’auraient pas eu lieu. \nToute l’équipe RAEDIVIVA remercie chaleureusement les personnes qui ont contribuées à ces vidéos: \nSophie MIDY | ADEME\nValérie DECOT | Raedificare\nIsabella Tallo | 3a Architectes Associés\nBenjamin Deroch | Groupe ekinov\nCamille Bertelli | Atelier Da Caze\nAntoine GROSJEAN | DOMENE scop\nFayçal Benabi | R+éveil\nMorgane Perrin | ROUGERIE+TANGRAM\nBarbara Cholley | Région Sud – Provence-Alpes-Côte d’Azur\nGrégoire Saurel | Bellastock\nJeremie Joubert | EnvirobatBDM\nEmmanuelle Pons | CAUE Var\nLaure PIZAY\nAmine M.\nRomain Tahon\nBenoit Campion\nCoco Velten\n\n\nLien de la formation: https://www.linkedin.com/posts/association-raediviva_raezemploi-btp-construction-activity-6993163045300494336-YFPo/?utm_source=share&utm_medium=member_desktop
URL:https://raediviva.fr/evenements/replay-formation-la-serie-3-sur-le-reemploi/
CATEGORIES:Formation
END:VEVENT
BEGIN:VEVENT
DTSTART;TZID=Europe/Zurich:20230630T080000
DTEND;TZID=Europe/Zurich:20230903T170000
DTSTAMP:20260423T130756
CREATED:20230903T110616Z
LAST-MODIFIED:20230903T110616Z
UID:10019-1688112000-1693760400@raediviva.fr
SUMMARY:Economie Circulaire sur les chantiers - Région SUD
DESCRIPTION:Ce MOOC a été réalisé dans le cadre de la démarche d’accompagnement de maîtres d’ouvrages volontaires en région Provence Alpes Côte d’Azur\, pour intégrer l’économie circulaire aux marchés et opérations de travaux\, qui est développée au sein du projet européen LIFE INTEGRE IP SMART WASTE (2018-2024)\, porté par l’exécutif régional au Service Economie Circulaire et Déchets. Ce projet européen a vocation à développer une dynamique territoriale\, pour mettre en oeuvre et renforcer l’efficience de la planification régionale en matière de prévention et de gestion des déchets (soutien européen de 10 millions d’euros\, 19 partenaires\, plus de 150 opérations). \nLa démarche d’accompagnement a pour objectif de sensibiliser les acteurs du BTP\, notamment les maîtres d’ouvrage\, et favoriser la montée en compétence de la chaine des acteurs du BTP afin de faire évoluer les pratiques pour économiser les ressources primaires\, prévenir la production de déchets\, savoir gérer les déchets produits\, utiliser les ressources secondaires et matériaux issus du recyclage de déchets dans tout projet de construction\, réhabilitation\, travaux publics et aménagement. \nVous trouverez des contenus sous divers formats: vidéo\, activités\, infographies et leçons texte. Des quiz seront présents en fin de module afin de vérifier vos connaissances sur les divers sujets abordés par le cours. \nLes intervenants et experts de ce MOOC sauront vous apporter leurs connaissances aux travers de divers formats proposés par le cours. \n\n\n\n\n\nFormat\n\n\n\nCette formation se découpe en 5 séquences. Chaque séquence aborde un thème différent\, et se décline sous différents formats : \n\nleçons texte\nvidéos pédagogiques\ninterviews\nactivités pédagogiques\nquiz\nforum d’entraide.\n\n\nÉvaluation et certification\n\n\n\nVous serez évalués tout au long de la formation à travers les quiz de fin de modules. Vos réponses compteront dans votre évaluation finale. \nA la fin de la formation\, une attestation de réussite vous sera délivrée à condition d’avoir obtenu un minimum de 70% de réussite. \n\nPlan de cours\n\n\n\nSéquence 1 : Sensibiliser \nSéquence 2 : Créer sa stratégie d’économie circulaire \nSéquence 3 : Intégrer l’Economie Circulaire dans les marchés et opérations de travaux du Bâtiment \nSéquence 4 : Intégrer l’Economie Circulaire dans les marchés et opérations de TRAVAUX PUBLICS \nSéquence 5 : Utiliser les RESSOURCES SECONDAIRES dans les marchés et opérations de travaux du BTP \n\nEquipe pédagogique\n\n\n\n\nResponsable de projet :\nBarbara CHOLLEY\nChargée de Mission Economie Circulaire & Déchets et Référente Déchets du BTP\, ORDEEC – Région SUD \n\n  \nÉquipe projet :\nColin BESSAIT\nDirecteur\, Eurovia Matériaux Région PACA \nKarine BOULOT\nDirectrice développement QSE\, Someca \nAdrian DEBOUTIERE\nChargé de mission Economie Circulaire et Animation Territoriale\, Métropole du Grand Paris \nBenjamin DEROCH\nCréateur d’immobilier ékilibré et innovant\, Ekinov \nFrédérique CAMPANELLA\nIngénieure construction durable et rénovation énergétique Mission Transition Ecologique\, Grand Avignon \nPhilippe FRANSISCO\nDirecteur adjoint Matériaux et Economie Circulaire\, Cerib \nMarc-Stéphane GINOUX\nIngénieur Génie Civil – Infrastructures – Matériaux et Économie circulaire\, Cerema \nNicolas HERMAN\nRéférent technique\, NGE \nCharlotte LOVERA\nArchitecte et co-fondatrice chez Atelier Aïno \nPhilippe MALFAIT\nResponsable Prescription Nationale\, Ecocem \nSophie MIDY\nChargée d’instruction Déchets de chantier; Référente Acteurs de la Santé en transition écologique chez ADEME PACA \nLucille PI\nCheffe de projet Economie Circulaire\, Neo-Eco \nPatrick ROLLAND\nDirecteur de Bronzo Perasso et représentant de l’UNICEM PACAC \nCamille SAINT-JEAN\nCheffe de projet Economie Circulaire\, Neo-Eco \nSophie SAROT-LEROY\nConsultante expertise juridique\, Altereo \nFrédéric SCLAVO\nDirecteur développement\, SOFOVAR du Groupe Sclavo \nBenoît WEIBEL\nDirecteur\, Mat’ild du Groupe Eurovia
URL:https://raediviva.fr/evenements/economie-circulaire-sur-les-chantiers-region-sud/
CATEGORIES:Formation
ATTACH;FMTTYPE=image/png:https://raediviva.fr/wp-content/uploads/2023/09/asset-v1_RegionSUDCS0120222022_T1type@assetblock@vignette_mooc_economie_circulaire.png
END:VEVENT
END:VCALENDAR