BEGIN:VCALENDAR
VERSION:2.0
PRODID:-//RAEDIVIVA - ECPv6.8.3//NONSGML v1.0//EN
CALSCALE:GREGORIAN
METHOD:PUBLISH
X-WR-CALNAME:RAEDIVIVA
X-ORIGINAL-URL:https://raediviva.fr
X-WR-CALDESC:Évènements pour RAEDIVIVA
REFRESH-INTERVAL;VALUE=DURATION:PT1H
X-Robots-Tag:noindex
X-PUBLISHED-TTL:PT1H
BEGIN:VTIMEZONE
TZID:Europe/Helsinki
BEGIN:DAYLIGHT
TZOFFSETFROM:+0200
TZOFFSETTO:+0300
TZNAME:EEST
DTSTART:20240331T010000
END:DAYLIGHT
BEGIN:STANDARD
TZOFFSETFROM:+0300
TZOFFSETTO:+0200
TZNAME:EET
DTSTART:20241027T010000
END:STANDARD
END:VTIMEZONE
BEGIN:VEVENT
DTSTART;TZID=Europe/Helsinki:20240202T090000
DTEND;TZID=Europe/Helsinki:20240202T173000
DTSTAMP:20260422T033727
CREATED:20240111T110728Z
LAST-MODIFIED:20240111T191714Z
UID:12226-1706864400-1706895000@raediviva.fr
SUMMARY:Festival Frugal - Le OFF (Osez Faire Frugal)
DESCRIPTION:Lancé en 2012 par l’Institut pour la conception écoresponsable du bâti (Iceb) et Collectif démarche durable (CO2D)\, le OFF\, pour Osez faire frugal !\, a pour vocation de donner de la lisibilité à des projets pionniers et frugaux qui ont mis en œuvre avec une forte ambition les solutions architecturales\, techniques ou d’usage anticipant le contexte futur : climat\, énergie\, ressources\, modes de vivre\, etc. \nLe Festival frugal est une manifestation indépendante portée par des associations de professionnels engagés dans les démarches durables\, novatrices et non conventionnelles\, dont EnvirobatBDM à Marseille. \nLes projets retenus en 2023 lors de cette 7e édition du OFF seront exposés lors d’un événement dans 8 villes.\nUne tournée qui débute à Marseille le mardi 2 février 2024 au Manier\, de 9h à 17h30.  \nS’inscrire \nPROGRAMME PREVISIONNEL \nINTRODUCTION\n9h à 10h30 \n– Accueil café\n– Introduction EnvirobatBDM et les Petits frères des pauvres\n– Projections des films de projets lauréats du OFF\n– Présentation du projet Le Manier à Marseille : renaissance durable et solidaire d’une bastide marseillaise\n– Echanges sur le projet \nEAU ET AMENAGEMENT\n10h30 à 12h30 \n– Projections de films de projets lauréats du OFF.\n– Présentation des projets :\n– Désimperméabilisation de la cour d’école Waldeck Rousseau à Firminy (42)\n– Parc naturel du Val des Chenevières à L’Arbresle (69) : transformer un risque en opportunité de territoire\n– Table-ronde sur la thématique \n12h30-14h30 : Visite du site Le Manier et déjeuner \nREEMPLOI\n14h30 à 16h30 \n– Projections des films de projets lauréats du OFF\n– Présentation des projets :\n– Requalification et extension du site d’Emmaüs à Saint-Jean-de-Linières (49) : le réemploi au coeur d’un projet écologique et solidaire\n– Démonstrateur du réemploi et de l’écoconstruction à Romainville (93) : rénovation intégrant un volet réemploi et matériaux biosourcés\n– Table-ronde sur la thématique \nGT FRUGALITE ET LOW-TECH\, CAP 2030\n16h30 à 17h30 \n– Présentation des échanges et avancées du GT Frugalité et low-tech pour Cap 2030\n– Echanges \nS’inscrire
URL:https://raediviva.fr/evenements/festival-frugal-le-off-osez-faire-frugal/
LOCATION:Siège ‘Les Petits Frères des Pauvres’: LE MANIER\, mpasse Le Manier\, Marseille\, 13012
CATEGORIES:Evènement
ATTACH;FMTTYPE=image/png:https://raediviva.fr/wp-content/uploads/2024/01/Festival-Frugal.png
END:VEVENT
BEGIN:VEVENT
DTSTART;TZID=Europe/Helsinki:20240215T083000
DTEND;TZID=Europe/Helsinki:20240215T100000
DTSTAMP:20260422T033727
CREATED:20240109T101757Z
LAST-MODIFIED:20240109T102220Z
UID:12186-1707985800-1707991200@raediviva.fr
SUMMARY:Petit-Déjeuner du Réemploi - 15 février 2024 - Grand Avignon
DESCRIPTION:Pour la première session de 2024\, nous avons le plaisir de vous inviter à participer au Petit-Déjeuner du Réemploi qui se déroulera à Avignon le jeudi 15 février ! \nDe 8h30 à 10h\, venez partager un moment convivial et informel pour parler réemploi dans le BTP autour d’un café ou d’un thé. L’opportunité de développer votre réseau à travers des rencontres et des échanges\, tout en apprenant des bonnes pratiques et retours d’expériences de chacun.  \nPour l’occasion\, le Grand Avignon nous fera le plaisir d’exposer ses projets en cours en matière de réemploi et d’économie circulaire sur le territoire.\nNous vous attendons nombreuses et nombreux ! \n📅 Le jeudi 15 février 2024\n🕗 De 8h30 à 10h00\n📍 Siège du Grand Avignon – Agroparc – 320 Chemin Meinajariès – 84140 Avignon (salle René Char) \n(Places limitées\, inscription obligatoire 👇)
URL:https://raediviva.fr/evenements/petit-dejeuner-du-reemploi-15-fevrier-2024-grand-avignon/
LOCATION:Siège du Grand Avignon – Agroparc\, 320 Chemin Meinajariès\, Avignon\, 84140\, France
CATEGORIES:Rencontre
ATTACH;FMTTYPE=image/png:https://raediviva.fr/wp-content/uploads/2024/01/Afterwork-et-petit-dejeuner-Carre-3.png
END:VEVENT
BEGIN:VEVENT
DTSTART;TZID=Europe/Helsinki:20240222T123000
DTEND;TZID=Europe/Helsinki:20240222T160000
DTSTAMP:20260422T033727
CREATED:20240110T190124Z
LAST-MODIFIED:20240201T161917Z
UID:12221-1708605000-1708617600@raediviva.fr
SUMMARY:Rencontre "Le réemploi en pratique - enjeux & perspectives : les outils\, les marchés et le développement de la filière"
DESCRIPTION:📌 A noter dans vos agendas ! \nLa Fédération Régionale du Bâtiment Provence-Alpes-Côte d’Azur\, la Fédération du BTP 13\, la SMTP 13\, EnvirobatBDM et Raediviva s’associent pour organiser une rencontre autour du réemploi\, le jeudi 22 février 2024 : « Le réemploi en pratique – enjeux & perspectives : les outils\, les marchés et le développement de la filière ». \nA cette occasion\, l’ensemble des acteurs de l’acte de construire des Bouches-du-Rhône sont invités à se réunir pour discuter de cette pratique qui se développe et pour mieux l’appréhender. Des professionnels du secteur viendront initier les échanges et les débats en partageant leurs expériences en matière de réemploi\, à différents stades de l’acte de construire et à différentes échelles.  \nA noter dans votre agenda si vous souhaitez en apprendre plus sur le réemploi et nourrir les échanges ! \n📅 Le jeudi 22 février 2024 \n🕗 De 12h30 à 16h00 \n📍 344 boulevard Michelet – 13009 Marseille \nS’inscrire \nProgramme \n12h30\nCocktail déjeunatoire & ateliers de sensibilisation au réemploi.\n \n13h30\nMot d’accueil : Georges Nave\, Président du SMTP 13.\nContexte et enjeux : Safa Ben Khedher\, Vice-Présidente de Raediviva & Frédéric Corset\, Directeur d’EnvirobatBDM.   \n14h00\n6 PITCHS de retours d’expériences sur la chaîne opérationnelle du réemploi. \nIntervenants : Icade\, R+éveil\, Demcy\, Cycle Up\, Atelier Aïno\, SMA BTP. \n15h00\nTable ronde : comment aborder les appels d’offres & motiver les acteurs. \nIntervenants & échanges avec le public : Vivian\, Raedificare\, Erilia. \n16h00\nConclusion : Georges Nave\,  Président du SMTP 13. \nAnimateur : Julien Beideler (UMGO) \nS’inscrire
URL:https://raediviva.fr/evenements/rencontre-le-reemploi-en-pratique-enjeux-perspectives-les-outils-les-marches-et-le-developpement-de-la-filiere/
LOCATION:FBTP 13\, 344 Boulevard Michelet\, Marseille\, 13009
CATEGORIES:Rencontre
ATTACH;FMTTYPE=image/png:https://raediviva.fr/wp-content/uploads/2024/01/REEMPLOI_SaveTheDate.png
END:VEVENT
BEGIN:VEVENT
DTSTART;TZID=Europe/Helsinki:20240223T090000
DTEND;TZID=Europe/Helsinki:20240223T173000
DTSTAMP:20260422T033727
CREATED:20240109T190729Z
LAST-MODIFIED:20240109T191030Z
UID:12212-1708678800-1708709400@raediviva.fr
SUMMARY:Formation Réemploi - Concepts et outils de base
DESCRIPTION:📚 FORMATION RÉEMPLOI 📚 \nLa prochaine session de la formation réemploi « Concepts et outils de base »\, organisée en partenariat avec EnvirobatBDM\, aura lieu le vendredi 23 février à Marseille. La formation se déroule en présentiel sur 1 journée. \n🎯 OBJECTIFS : \n– Connaître les divers acteurs et enjeux du réemploi des matériaux et produits de construction.\n– Connaître le cadre légal du réemploi : contexte réglementaire et normatif.\n– Connaître le déroulement d’une opération impliquant du réemploi de matériaux et/ou équipements (phases pour une opération de réemploi In Situ ou Ex Situ\, documents clés\, rôles\, outils\, standards applicables…).\n– Pouvoir lire un diagnostic PEMD\, un diagnostic ressources\, identifier les informations essentielles.\n– Identifier très clairement les problèmes récurrents\, connaître les solutions classiques\nPouvoir argumenter et valoriser les efforts en matière de réemploi (exemple chiffrés\, tonne de déchets évités…). \nProgramme \nFORMATEUR : \nGrégoire Saurel\, Responsable Bellastock Marseille\, Directeur technique réemploi et économie circulaire\, Architecte Diplômé d’Etat. \nTARIFS : \nPour les adhérents EnvirobatBDM et/ou RAEDIVIVA : 450 € nets de taxes\nPour les non-adhérents : 550 € nets de taxes \nS’inscrire
URL:https://raediviva.fr/evenements/formation-reemploi-concepts-et-outils-de-base/
LOCATION:EnvirobatBDM\, 32 rue de Crimée\, Marseille\, 13003
CATEGORIES:Formation
ATTACH;FMTTYPE=image/png:https://raediviva.fr/wp-content/uploads/2024/01/Formation-1-23-fevrier-2024.png
END:VEVENT
END:VCALENDAR